BEGIN:VCALENDAR
VERSION:2.0
PRODID:-//urwahl3000//gruene-frankfurt-ost.de//DE
CALSCALE:GREGORIAN
BEGIN:VEVENT
DTSTART:20260427T170000
DTEND:20260427T200000
LOCATION:Wilhelmshöher Str. 163 60388 Frankfurt am Main 
DTSTAMP:20260427T170000
SUMMARY:Sitzung Stadtteilgruppe 11
URL;VALUE=URI:https://gruene-frankfurt-ost.de/termin/sitzung-stadtteilgruppe-11/
DESCRIPTION:Liebe Mitglieder,

 

Hiermit möchten wir euch herzlich zur Sitzung am 27.04. im Gasthaus zur Krone in Seckbach einladen. Los geht es um 17 Uhr.

 

Wir schlagen folgende Tagesordnung vor:

 

TOP 0 Formalia:

- Wahl der Sitzungsleitung, Bestätigung der Tagesordnung

- Bestätigung des Protokolls der STG vom 17.03.2026

TOP 1 Aktuelles

TOP 2 Kernthema: Schulen, KiTa und gymnasiale Oberstufe

TOP 3 Wählerwanderung im 11er als Signale für grüne Politik im Frankfurter Osten

TOP 4 Besprechung konstituierende Sitzung des OBR11 (Beginnt frühestens um 18 Uhr)

TOP 5 Benennung eines/einer grünen Kandidat*in für das Amt der/des Stadtbezirksvorsteher*in in Seckbach

TOP 6 Finanzanträge

TOP 7 Verschiedenes

 
UID:20260427T170000-20260427T170000-20260427T200000
END:VEVENT
END:VCALENDAR